BEGIN:VCALENDAR
VERSION:2.0
PRODID:-//ChamberMaster//Event Calendar 2.0//EN
METHOD:PUBLISH
X-PUBLISHED-TTL:P3D
REFRESH-INTERVAL:P3D
CALSCALE:GREGORIAN
BEGIN:VEVENT
DTSTART:20170125T170000Z
DTEND:20170125T230000Z
X-MICROSOFT-CDO-ALLDAYEVENT:FALSE
SUMMARY:Western Idaho Expo
DESCRIPTION:Indoor Western Idaho Ag Expo brought to you by Spectra Productions.Come see the latest in Farm Equipment\, Products and Services Demonstrations\, Exhibits & Ag Technologies. Concessions on sight.
X-ALT-DESC;FMTTYPE=text/html:Indoor Western Idaho Ag Expo brought to you by Spectra Productions.Come see the latest in Farm Equipment\, Products and Services Demonstrations\, Exhibits &amp\; Ag Technologies. Concessions on sight.
LOCATION:Canyon County Fairgrounds 111 22nd Ave Caldwell\, ID 83605
UID:e.2335.2055
SEQUENCE:3
DTSTAMP:20260421T152111Z
URL:https://business.caldwellchamber.org/events/details/western-idaho-expo-01-25-2017-2055
END:VEVENT

END:VCALENDAR
