BEGIN:VCALENDAR
VERSION:2.0
PRODID:-//ChamberMaster//Event Calendar 2.0//EN
METHOD:PUBLISH
X-PUBLISHED-TTL:P3D
REFRESH-INTERVAL:P3D
CALSCALE:GREGORIAN
BEGIN:VEVENT
DTSTART;VALUE=DATE:20181221
DTEND;VALUE=DATE:20181222
TRANSP:TRANSPARENT
X-MICROSOFT-CDO-ALLDAYEVENT:TRUE
SUMMARY:Winter Solstice Market
DESCRIPTION:Seasonal\, holiday themed market includes shopping local vendors\, ice skating\, music\, & Santa. Great for a last day holiday grab.
X-ALT-DESC;FMTTYPE=text/html:Seasonal\, holiday themed market includes shopping local vendors\, ice skating\, music\, &amp\; Santa. Great for a last day holiday grab.
LOCATION:Indian Creek Plaza
UID:e.2335.3977
SEQUENCE:3
DTSTAMP:20260423T080816Z
URL:https://business.caldwellchamber.org/events/details/winter-solstice-market-3977
END:VEVENT

END:VCALENDAR
