BEGIN:VCALENDAR
VERSION:2.0
PRODID:-//ChamberMaster//Event Calendar 2.0//EN
METHOD:PUBLISH
X-PUBLISHED-TTL:P3D
REFRESH-INTERVAL:P3D
CALSCALE:GREGORIAN
BEGIN:VEVENT
DTSTART:20161118T230000Z
DTEND:20161119T050000Z
X-MICROSOFT-CDO-ALLDAYEVENT:FALSE
SUMMARY:Winter Wonderland
DESCRIPTION:Winter Wonderland
X-ALT-DESC;FMTTYPE=text/html:Winter Wonderland
LOCATION:Indian Creek Caldwell\, Idaho
UID:e.2335.959
SEQUENCE:3
DTSTAMP:20260421T135538Z
URL:https://business.caldwellchamber.org/events/details/winter-wonderland-11-18-2016-959
END:VEVENT

END:VCALENDAR
