BEGIN:VCALENDAR
VERSION:2.0
PRODID:-//ChamberMaster//Event Calendar 2.0//EN
METHOD:PUBLISH
X-PUBLISHED-TTL:P3D
REFRESH-INTERVAL:P3D
CALSCALE:GREGORIAN
BEGIN:VEVENT
DTSTART:20191123T000000Z
DTEND:20191123T050000Z
X-MICROSOFT-CDO-ALLDAYEVENT:FALSE
SUMMARY:Winter Wonderland Festival
DESCRIPTION:Every year\, the City of Caldwell Street Department decorates Indian Creek in downtown Caldwell with nearly a million lights! Come watch as Mayor Garrett Nancolas 'flips the switch' to turn on the beautiful lights at the family-friendly\, fun-filled\, FREE Winter Wonderland Festival\, Friday\, November 22\, 2019 from 6 to 9 p.m.
X-ALT-DESC;FMTTYPE=text/html:Every year\, the City of Caldwell Street Department decorates Indian Creek in downtown Caldwell with nearly a million lights! Come watch as Mayor Garrett Nancolas &lsquo\;flips the switch&rsquo\; to turn on the beautiful lights at the family-friendly\, fun-filled\, FREE Winter Wonderland Festival\, Friday\, November 22\, 2019 from 6 to 9 p.m.
LOCATION:Indian Creek Plaza 120 S Kimball Ave. Caldwell\, ID 83605
UID:e.2335.5103
SEQUENCE:3
DTSTAMP:20260423T222221Z
URL:https://business.caldwellchamber.org/events/details/winter-wonderland-festival-11-22-2019-5103
END:VEVENT

END:VCALENDAR
