BEGIN:VCALENDAR
VERSION:2.0
PRODID:-//ChamberMaster//Event Calendar 2.0//EN
METHOD:PUBLISH
X-PUBLISHED-TTL:P3D
REFRESH-INTERVAL:P3D
CALSCALE:GREGORIAN
BEGIN:VEVENT
DTSTART:20170927T130000Z
DTEND:20170928T230000Z
X-MICROSOFT-CDO-ALLDAYEVENT:FALSE
SUMMARY:Women and Leadership Conference
DESCRIPTION:Women and Leadership is designed to empower the leaders of tomorrow by sharing the knowledge\, insights\, and motivating forces driving today's most successful women. Creating equal opportunity for all is a goal that requires the commitment of both men and women. All genders are welcome.
X-ALT-DESC;FMTTYPE=text/html:Women and Leadership is designed to empower the leaders of tomorrow by sharing the knowledge\, insights\, and motivating forces driving today&rsquo\;s most successful women. Creating equal opportunity for all is a goal that requires the commitment of both men and women. All genders are welcome.
LOCATION:Boise State University Student Union Building
UID:e.2335.2740
SEQUENCE:3
DTSTAMP:20260422T031802Z
URL:https://business.caldwellchamber.org/events/details/women-and-leadership-conference-2740
END:VEVENT

END:VCALENDAR
