BEGIN:VCALENDAR
VERSION:2.0
PRODID:-//ChamberMaster//Event Calendar 2.0//EN
METHOD:PUBLISH
X-PUBLISHED-TTL:P3D
REFRESH-INTERVAL:P3D
CALSCALE:GREGORIAN
BEGIN:VEVENT
DTSTART:20170909T003000Z
DTEND:20170909T210000Z
X-MICROSOFT-CDO-ALLDAYEVENT:FALSE
SUMMARY:Women of Christ Conference
DESCRIPTION:Christ and the Generation Gap This is our second annual Women of Christ Conference. This year we will be discussing the communication gap between the generations by understanding how the different generations communicate and how we can bring Christ into these relationships. We hope to bridge the generation gap with Christ within our families\; building a recipe of communication and understanding through respect\, love\, forgiveness\, and acceptance.
X-ALT-DESC;FMTTYPE=text/html:Christ and the Generation Gap This is our second annual Women of Christ Conference. This year we will be discussing the communication gap between the generations by understanding how the different generations communicate and how we can bring Christ into these relationships. We hope to bridge the generation gap with Christ within our families\; building a recipe of communication and understanding through respect\, love\, forgiveness\, and acceptance.
LOCATION:Christ the King Community Church 2121 Caldwell Blvd\, Nampa\, ID
UID:e.2335.2766
SEQUENCE:3
DTSTAMP:20260422T031931Z
URL:https://business.caldwellchamber.org/events/details/women-of-christ-conference-2766
END:VEVENT

END:VCALENDAR
