BEGIN:VCALENDAR
VERSION:2.0
PRODID:-//ChamberMaster//Event Calendar 2.0//EN
METHOD:PUBLISH
X-PUBLISHED-TTL:P3D
REFRESH-INTERVAL:P3D
CALSCALE:GREGORIAN
BEGIN:VEVENT
DTSTART:20170308T230000Z
DTEND:20170309T010000Z
X-MICROSOFT-CDO-ALLDAYEVENT:FALSE
SUMMARY:Workshop on Farmers Markets and Fairs in Boise Area
DESCRIPTION:What: A Workshop on Farmers Markets and Fairs in Boise Area When: 4-6 p.m. Wednesday\, March 8th\n\nWhere: Main Conference Room\, Jannus\, 1607 West Jefferson\, Boise\n\nCost: None\n\nRegister: Email or call Michelle Britt MBritt@Jannus.org\, 336-5533 x349\n\n \n\nLearn more about the various markets and fairs\, their audiences and registration requirements. Signage   minimum requirements and best practices\, local resources for affordable signage. Menus-tailoring your menu for a fair or festival. Bring your questions\, ideas\, and your signs!
X-ALT-DESC;FMTTYPE=text/html:What: A Workshop on Farmers Markets and Fairs in Boise Area When: 4-6 p.m. Wednesday\, March 8th<br />\nWhere: Main Conference Room\, Jannus\, 1607 West Jefferson\, Boise<br />\nCost: None<br />\nRegister: Email or call Michelle Britt MBritt@Jannus.org\, 336-5533 x349<br />\n&#8203\;<br />\nLearn more about the various markets and fairs\, their audiences and registration requirements. Signage &ndash\; minimum requirements and best practices\, local resources for affordable signage. Menus-tailoring your menu for a fair or festival. Bring your questions\, ideas\, and your signs!
LOCATION:Jannus\, Inc. 1607 W Jefferson St. Boise
UID:e.2335.2250
SEQUENCE:3
DTSTAMP:20260421T191112Z
URL:https://business.caldwellchamber.org/events/details/workshop-on-farmers-markets-and-fairs-in-boise-area-2250
END:VEVENT

END:VCALENDAR
