BEGIN:VCALENDAR
VERSION:2.0
PRODID:-//ChamberMaster//Event Calendar 2.0//EN
METHOD:PUBLISH
X-PUBLISHED-TTL:P3D
REFRESH-INTERVAL:P3D
CALSCALE:GREGORIAN
BEGIN:VEVENT
DTSTART:20180620T001500Z
DTEND:20180620T010000Z
X-MICROSOFT-CDO-ALLDAYEVENT:FALSE
SUMMARY:Y.C.O.P.S.--Domestic Animal & Pet Laws
DESCRIPTION:The Caldwell Police Dept. Presents: Y.C.O.P.S. The Caldwell Police Department will be hosting Q&A sessions about a different topic each month at the Caldwell Family YMCA. These sessions are free to attend and open to the public. Anyone is welcome to come and inquire about laws/legality\, policing methods\, and community safety pertaining to the monthly topic. These seminars are family-friendly\, and children are welcome to meet the officers after the seminars and learn about what they do to serve and protect the Caldwell community. Please Note: CPD officers are not at liberty to discuss active or ongoing open cases. Because of the family-friendly nature of these sessions\, we ask that all attendees please observe and practice the YMCA Values of Caring\, Honesty\, Respect\, and Responsibility while in the facility. The YMCA is a Tobacco-\, Drug- and Weapons-Free Facility.
X-ALT-DESC;FMTTYPE=text/html:The Caldwell Police Dept. Presents: Y.C.O.P.S. The Caldwell Police Department will be hosting Q&amp\;A sessions about a different topic each month at the Caldwell Family YMCA. These sessions are free to attend and open to the public. Anyone is welcome to come and inquire about laws/legality\, policing methods\, and community safety pertaining to the monthly topic. These seminars are family-friendly\, and children are welcome to meet the officers after the seminars and learn about what they do to serve and protect the Caldwell community. Please Note: CPD officers are not at liberty to discuss active or ongoing open cases. Because of the family-friendly nature of these sessions\, we ask that all attendees please observe and practice the YMCA Values of Caring\, Honesty\, Respect\, and Responsibility while in the facility. The YMCA is a Tobacco-\, Drug- and Weapons-Free Facility.
LOCATION:Caldwell Family YMCA 3720 S. Indiana Ave. Caldwell\, ID 83605
UID:e.2335.3415
SEQUENCE:3
DTSTAMP:20260422T214907Z
URL:https://business.caldwellchamber.org/events/details/y-c-o-p-s-domestic-animal-pet-laws-3415
END:VEVENT

END:VCALENDAR
