BEGIN:VCALENDAR
VERSION:2.0
PRODID:-//ChamberMaster//Event Calendar 2.0//EN
METHOD:PUBLISH
X-PUBLISHED-TTL:P3D
REFRESH-INTERVAL:P3D
CALSCALE:GREGORIAN
BEGIN:VEVENT
DTSTART:20180718T001500Z
DTEND:20180718T010000Z
X-MICROSOFT-CDO-ALLDAYEVENT:FALSE
SUMMARY:Y.C.O.P.S. Neighborhood Watch
DESCRIPTION:YMCA Community Oriented Police Seminars: Neighborhood Watch
X-ALT-DESC;FMTTYPE=text/html:YMCA Community Oriented Police Seminars: Neighborhood Watch
LOCATION:Caldwell Family YMCA
UID:e.2335.4311
SEQUENCE:3
DTSTAMP:20260422T234741Z
URL:https://business.caldwellchamber.org/events/details/y-c-o-p-s-neighborhood-watch-4311
END:VEVENT

END:VCALENDAR
