BEGIN:VCALENDAR
VERSION:2.0
PRODID:-//ChamberMaster//Event Calendar 2.0//EN
METHOD:PUBLISH
X-PUBLISHED-TTL:P3D
REFRESH-INTERVAL:P3D
CALSCALE:GREGORIAN
BEGIN:VEVENT
DTSTART:20161217T020000Z
DTEND:20161218T033000Z
X-MICROSOFT-CDO-ALLDAYEVENT:FALSE
SUMMARY:Yes\, Virginia the Musical
DESCRIPTION:It's 1897 in New York City. A young girl writes to the editor of the New York Sun questioning the existence of Santa Claus. On Sept. 21\, 1897\, The New York Sun published what was to become the most widely read letter to a newspaper. It was sent by 8-year-old Virginia O'Hanlon\, who lived with her parents in Manhattan. Eight-year-old Virginia O'Hanlon has always loved Christmas. Until the day her classmates bring up the age-old question: "Is there a Santa Claus?" On a mission to find the truth\, Virginia walks into the streets of New York City to find out for herself. Along the way she encounters some colorful characters: a scraggly Santa ringing a bell and an excitable librarian with a shelf full of Christmas books. Having found no answers\, Virginia writes to The New York Sun newspaper. Her letter makes its way to the desk of grumpy editor Frank Church\, who is far too busy and upset with the world respond to a little girl's questions. But through Virginia's determination and help from Scraggly Santa\, Mr. Church is persuaded to write his answeran answer that becomes the most famous newspaper editorial of all time. Showtimes are December 16th and 17th at 7pm with a matinee on December 17th at 2 pm. sure and write a letter to Santa to drop in the Macy's mailbox! Macy's will donate $1 to the MAKE A WISH Foundation for each letter to Santa deposited in the MACY'S Mailboxes.
X-ALT-DESC;FMTTYPE=text/html:It&#39\;s 1897 in New York City. A young girl writes to the editor of the New York Sun questioning the existence of Santa Claus. On Sept. 21\, 1897\, The New York Sun published what was to become the most widely read letter to a newspaper. It was sent by 8-year-old Virginia O&#39\;Hanlon\, who lived with her parents in Manhattan. Eight-year-old Virginia O&#39\;Hanlon has always loved Christmas. Until the day her classmates bring up the age-old question: &quot\;Is there a Santa Claus?&quot\; On a mission to find the truth\, Virginia walks into the streets of New York City to find out for herself. Along the way she encounters some colorful characters: a scraggly Santa ringing a bell and an excitable librarian with a shelf full of Christmas books. Having found no answers\, Virginia writes to The New York Sun newspaper. Her letter makes its way to the desk of grumpy editor Frank Church\, who is far too busy and upset with the world respond to a little girl&#39\;s questions. But through Virginia&#39\;s determination and help from Scraggly Santa\, Mr. Church is persuaded to write his answeran answer that becomes the most famous newspaper editorial of all time. Showtimes are December 16th and 17th at 7pm with a matinee on December 17th at 2 pm. sure and write a letter to Santa to drop in the Macy&#39\;s mailbox! Macy&#39\;s will donate $1 to the MAKE A WISH Foundation for each letter to Santa deposited in the MACY&#39\;S Mailboxes.
LOCATION:Jewett Auditorium 2112 Caldwell Blvd
UID:e.2335.2048
SEQUENCE:3
DTSTAMP:20260421T112229Z
URL:https://business.caldwellchamber.org/events/details/yes-virginia-the-musical-2048
END:VEVENT

END:VCALENDAR
